Workbook

Sheet Siniestro
G1: Totales | J1: =SUM(J3:J353) -> 1092 | L1: =SUM(L3:L353) -> 2631636 | N1: =SUM(N3:N353) -> 3956932.8
A2: Línea | B2: Familia | C2: Modelo | D2: Producto | E2: Descripción | F2: Talla | G2: Color | H2: Presu | I2: Precio | J2: Cantidad | K2: Costo | L2: Costo Total | M2: Precio Neto | N2: Valor Precio Neto
A3: 003 Juvenil Hombre | B3: Familia Pantalón | C3: 97066420 | D3: 97066420505 | E3: PANTAL+ôN VR FSP JOGGER B+üSICO | F3: XL | G3: VERDE MILITAR MELANGE | H3: PV 2021 | I3: 7000 | J3: 1 | K3: 4354 | L3: =K3*J3 -> 4354 | M3: =I3/1.19 -> 5882.3529 | N3: =M3*J3 -> 5882.3529
A4: 003 Juvenil Hombre | B4: Familia Pantalón | C4: 97066420 | D4: 97066420504 | E4: PANTAL+ôN VR FSP JOGGER B+üSICO | F4: L | G4: VERDE MILITAR MELANGE | H4: PV 2021 | I4: 7000 | J4: 3 | K4: 4354 | L4: =K4*J4 -> 13062 | M4: =I4/1.19 -> 5882.3529 | N4: =M4*J4 -> 17647.059
A5: 003 Juvenil Hombre | B5: Familia Pantalón | C5: 97066420 | D5: 97066420503 | E5: PANTAL+ôN VR FSP JOGGER B+üSICO | F5: M | G5: VERDE MILITAR MELANGE | H5: PV 2021 | I5: 7000 | J5: 4 | K5: 4358 | L5: =K5*J5 -> 17432 | M5: =I5/1.19 -> 5882.3529 | N5: =M5*J5 -> 23529.412
A6: 003 Juvenil Hombre | B6: Familia Pantalón | C6: 97066420 | D6: 97066420302 | E6: PANTAL+ôN VR FSP JOGGER B+üSICO | F6: S | G6: MARENGO MELANGE | H6: PV 2021 | I6: 7000 | J6: 2 | K6: 4238 | L6: =K6*J6 -> 8476 | M6: =I6/1.19 -> 5882.3529 | N6: =M6*J6 -> 11764.706
A7: 003 Juvenil Hombre | B7: Familia Polera | C7: 97067310 | D7: 97067310306 | E7: POLERA VR FSP M/C C/R ESTAMPADO CITIES | F7: XXL | G7: NEGRO | H7: OI 2022 | I7: 3000 | J7: 2 | K7: 1755 | L7: =K7*J7 -> 3510 | M7: =I7/1.19 -> 2521.0084 | N7: =M7*J7 -> 5042.0168
A8: 003 Juvenil Hombre | B8: Familia Polera | C8: 97067310 | D8: 97067310305 | E8: POLERA VR FSP M/C C/R ESTAMPADO CITIES | F8: XL | G8: NEGRO | H8: OI 2022 | I8: 3000 | J8: 5 | K8: 1754 | L8: =K8*J8 -> 8770 | M8: =I8/1.19 -> 2521.0084 | N8: =M8*J8 -> 12605.042
A9: 003 Juvenil Hombre | B9: Familia Polera | C9: 97067310 | D9: 97067310304 | E9: POLERA VR FSP M/C C/R ESTAMPADO CITIES | F9: L | G9: NEGRO | H9: OI 2022 | I9: 3000 | J9: 9 | K9: 1755 | L9: =K9*J9 -> 15795 | M9: =I9/1.19 -> 2521.0084 | N9: =M9*J9 -> 22689.076
A10: 003 Juvenil Hombre | B10: Familia Polera | C10: 97067310 | D10: 97067310303 | E10: POLERA VR FSP M/C C/R ESTAMPADO CITIES | F10: M | G10: NEGRO | H10: OI 2022 | I10: 3000 | J10: 7 | K10: 1755 | L10: =K10*J10 -> 12285 | M10: =I10/1.19 -> 2521.0084 | N10: =M10*J10 -> 17647.059
A11: 003 Juvenil Hombre | B11: Familia Polera | C11: 97067310 | D11: 97067310302 | E11: POLERA VR FSP M/C C/R ESTAMPADO CITIES | F11: S | G11: NEGRO | H11: OI 2022 | I11: 3000 | J11: 5 | K11: 1755 | L11: =K11*J11 -> 8775 | M11: =I11/1.19 -> 2521.0084 | N11: =M11*J11 -> 12605.042
A12: 003 Juvenil Hombre | B12: Familia Polera | C12: 97067310 | D12: 97067310301 | E12: POLERA VR FSP M/C C/R ESTAMPADO CITIES | F12: XS | G12: NEGRO | H12: OI 2022 | I12: 3000 | J12: 1 | K12: 1755 | L12: =K12*J12 -> 1755 | M12: =I12/1.19 -> 2521.0084 | N12: =M12*J12 -> 2521.0084
A13: 001 Mujer Casual | B13: Familia Polera | C13: 87064090 | D13: 87064090305 | E13: POLERA DM FSP M/L C/V ESTAMPADA FOLIA Y | F13: XL | G13: NEGRO | H13: PV 2022 | I13: 6990 | J13: 1 | K13: 2659 | L13: =K13*J13 -> 2659 | M13: =I13/1.19 -> 5873.9496 | N13: =M13*J13 -> 5873.9496
A14: 038 Ropa Interior | B14: Familia Calceta Deportiva | C14: 83021700 | D14: 83021700211 | E14: CALCETA DEPORTIVA RI FSP TRIPACK NIÑO FU | F14: 8 | G14: GRIS MELANGE | H14: PV 2021 | I14: 3990 | J14: 1 | K14: 694 | L14: =K14*J14 -> 694 | M14: =I14/1.19 -> 3352.9412 | N14: =M14*J14 -> 3352.9412
... A353: 001 Mujer Casual | B353: Familia Blazer | C353: 87054460 | D353: 87054460106 | E353: BLAZER DM FSP M/L C/V BRILLANTE CON CIER | F353: XXL | G353: NEGRO | H353: OI 2020 | I353: 7000 | J353: 1 | K353: 6622 | L353: =K353*J353 -> 6622 | M353: =I353/1.19 -> 5882.3529 | N353: =M353*J353 -> 5882.3529

Sheet Stock al 16-08-2022
A1: ÁVal | B1: Material | C1: Texto breve de material | D1: De fecha | E1: A fecha | F1: Stock inicial | G1: Stock de cierre | H1: Siniestro
A2: T031 | B2: 29038340110 | C2: BLUSA NA FSP M/L C/C ESCOCES NUDO DELANT | D2: 16.08.2022 | E2: 16.08.2022 | F2: 2 | G2: 2 | H2: =IF(IFERROR(VLOOKUP($B2,Siniestro!$D:$D,1,0),0)>0,"SI","NO") -> SI
A3: T031 | B3: 29038340111 | C3: BLUSA NA FSP M/L C/C ESCOCES NUDO DELANT | D3: 16.08.2022 | E3: 16.08.2022 | F3: 5 | G3: 5 | H3: =IF(IFERROR(VLOOKUP($B3,Siniestro!$D:$D,1,0),0)>0,"SI","NO") -> SI
A4: T031 | B4: 29038340113 | C4: BLUSA NA FSP M/L C/C ESCOCES NUDO DELANT | D4: 16.08.2022 | E4: 16.08.2022 | F4: 3 | G4: 3 | H4: =IF(IFERROR(VLOOKUP($B4,Siniestro!$D:$D,1,0),0)>0,"SI","NO") -> SI
A5: T031 | B5: 29038340114 | C5: BLUSA NA FSP M/L C/C ESCOCES NUDO DELANT | D5: 16.08.2022 | E5: 16.08.2022 | F5: 4 | G5: 4 | H5: =IF(IFERROR(VLOOKUP($B5,Siniestro!$D:$D,1,0),0)>0,"SI","NO") -> SI
A6: T031 | B6: 29038590211 | C6: BLUSA NA FSP M/L C/C MEZCLILLA STRASS CA | D6: 16.08.2022 | E6: 16.08.2022 | F6: 4 | G6: 4 | H6: =IF(IFERROR(VLOOKUP($B6,Siniestro!$D:$D,1,0),0)>0,"SI","NO") -> SI
A7: T031 | B7: 29038590212 | C7: BLUSA NA FSP M/L C/C MEZCLILLA STRASS CA | D7: 16.08.2022 | E7: 16.08.2022 | F7: 2 | G7: 2 | H7: =IF(IFERROR(VLOOKUP($B7,Siniestro!$D:$D,1,0),0)>0,"SI","NO") -> SI
A8: T031 | B8: 29038590213 | C8: BLUSA NA FSP M/L C/C MEZCLILLA STRASS CA | D8: 16.08.2022 | E8: 16.08.2022 | F8: 2 | G8: 2 | H8: =IF(IFERROR(VLOOKUP($B8,Siniestro!$D:$D,1,0),0)>0,"SI","NO") -> SI
A9: T031 | B9: 29038590214 | C9: BLUSA NA FSP M/L C/C MEZCLILLA STRASS CA | D9: 16.08.2022 | E9: 16.08.2022 | F9: 8 | G9: 8 | H9: =IF(IFERROR(VLOOKUP($B9,Siniestro!$D:$D,1,0),0)>0,"SI","NO") -> SI
A10: T031 | B10: 29038590215 | C10: BLUSA NA FSP M/L C/C MEZCLILLA STRASS CA | D10: 16.08.2022 | E10: 16.08.2022 | F10: 3 | G10: 3 | H10: =IF(IFERROR(VLOOKUP($B10,Siniestro!$D:$D,1,0),0)>0,"SI","NO") -> SI
A11: T031 | B11: 29038600110 | C11: BLUSA NA FSP M/L C/C ESCOCES C/CINTURÓN | D11: 16.08.2022 | E11: 16.08.2022 | F11: 1 | G11: 1 | H11: =IF(IFERROR(VLOOKUP($B11,Siniestro!$D:$D,1,0),0)>0,"SI","NO") -> SI
A12: T031 | B12: 29038600111 | C12: BLUSA NA FSP M/L C/C ESCOCES C/CINTURÓN | D12: 16.08.2022 | E12: 16.08.2022 | F12: 2 | G12: 2 | H12: =IF(IFERROR(VLOOKUP($B12,Siniestro!$D:$D,1,0),0)>0,"SI","NO") -> SI
A13: T031 | B13: 29038600112 | C13: BLUSA NA FSP M/L C/C ESCOCES C/CINTURÓN | D13: 16.08.2022 | E13: 16.08.2022 | F13: 3 | G13: 3 | H13: =IF(IFERROR(VLOOKUP($B13,Siniestro!$D:$D,1,0),0)>0,"SI","NO") -> SI
... A17406: T031 | B17406: 99001280105 | C17406: POLERA IN FSP M/L C/R MUJER UNIFORME | D17406: 16.08.2022 | E17406: 16.08.2022 | F17406: 12 | G17406: 12 | H17406: =IF(IFERROR(VLOOKUP($B17406,Siniestro!$D:$D,1,0),0)>0,"SI","NO") -> NO
F17408: 78623 | G17408: 78623
